BEGIN:VCALENDAR
VERSION:2.0
PRODID:-//Days of His Power Ministry Int&#039;l - ECPv6.2.2//NONSGML v1.0//EN
CALSCALE:GREGORIAN
METHOD:PUBLISH
X-WR-CALNAME:Days of His Power Ministry Int&#039;l
X-ORIGINAL-URL:https://daysofpowerministry.org
X-WR-CALDESC:Events for Days of His Power Ministry Int&#039;l
REFRESH-INTERVAL;VALUE=DURATION:PT1H
X-Robots-Tag:noindex
X-PUBLISHED-TTL:PT1H
BEGIN:VTIMEZONE
TZID:UTC
BEGIN:STANDARD
TZOFFSETFROM:+0000
TZOFFSETTO:+0000
TZNAME:UTC
DTSTART:20230101T000000
END:STANDARD
END:VTIMEZONE
BEGIN:VEVENT
DTSTART;TZID=UTC:20230817T170000
DTEND;TZID=UTC:20230819T170000
DTSTAMP:20260421T053101
CREATED:20230606T160413Z
LAST-MODIFIED:20230806T134251Z
UID:956-1692291600-1692464400@daysofpowerministry.org
SUMMARY:Prophetic & Deliverance Program
DESCRIPTION:
URL:https://daysofpowerministry.org/event/monthly-program/
LOCATION:Conference Hall\, RADA C Hotel\, Zango-Daji\, Lokoja\, Kogi State\, Conference Hall\, RADA C Hotel\, Zango-Daji\, Lokoja\, Kogi\, Nigeria
ATTACH;FMTTYPE=image/png:https://daysofpowerministry.org/wp-content/uploads/2023/06/Have-Dominion.png
ORGANIZER;CN="Days of His Power Ministry Int'l":MAILTO:inquiries@daysofpowerministry.org; contact@daysofpowerministry.org
END:VEVENT
END:VCALENDAR